BEGIN:VCALENDAR
VERSION:2.0
PRODID:-//ChamberMaster//Event Calendar 2.0//EN
METHOD:PUBLISH
X-PUBLISHED-TTL:P3D
REFRESH-INTERVAL:P3D
CALSCALE:GREGORIAN
BEGIN:VEVENT
DTSTART;VALUE=DATE:20120419
DTEND;VALUE=DATE:20120421
TRANSP:TRANSPARENT
X-MICROSOFT-CDO-ALLDAYEVENT:TRUE
SUMMARY:10 Hour Certified OSHA Training
DESCRIPTION:10 Hour Certified OSHA Training \n\nThursday\, April 19th \n8:30 a.m. -  5:00 p.m. \nFriday\, April 20th \n8:30 a.m. -  12:00 p.m. \n\nMust Attend Both Days. Space is limited. Must RSVP rsvp@hcadesa.org . Meals will be provided deadline to register is April 16\, 2012. A Certified OSHA instructor will present the 10 hour program and administer the certifications. This training is FREE\, BUT a $20.00 REFUNDABLE DEPOSIT is required to hold your spot. Spanish language class available. Presented in partnership with the Hispanic Contractors Association de San Antonio\, the UTPA Rio South Texas Regional Procurement Technical Assistance Center and participating sponsors.
X-ALT-DESC;FMTTYPE=text/html:10 Hour Certified OSHA Training \n\nThursday\, April 19th \n8:30 a.m. -  5:00 p.m. \nFriday\, April 20th \n8:30 a.m. -  12:00 p.m. \n\nMust Attend Both Days. Space is limited. Must RSVP rsvp@hcadesa.org . Meals will be provided deadline to register is April 16\, 2012. A Certified OSHA instructor will present the 10 hour program and administer the certifications. This training is FREE\, BUT a $20.00 REFUNDABLE DEPOSIT is required to hold your spot. Spanish language class available. Presented in partnership with the Hispanic Contractors Association de San Antonio\, the UTPA Rio South Texas Regional Procurement Technical Assistance Center and participating sponsors. \n
LOCATION:
UID:e.1828.3615
SEQUENCE:3
DTSTAMP:20260420T163241Z
URL:https://business.harlingen.com/events/details/10-hour-certified-osha-training-04-19-2012-3615
END:VEVENT

END:VCALENDAR
