BEGIN:VCALENDAR
VERSION:2.0
PRODID:-//ChamberMaster//Event Calendar 2.0//EN
METHOD:PUBLISH
X-PUBLISHED-TTL:P3D
REFRESH-INTERVAL:P3D
CALSCALE:GREGORIAN
BEGIN:VEVENT
DTSTART;VALUE=DATE:20120611
DTEND;VALUE=DATE:20120815
TRANSP:TRANSPARENT
X-MICROSOFT-CDO-ALLDAYEVENT:TRUE
SUMMARY:10 Week Course for Entrepreneurs in Harlingen
DESCRIPTION:New Information Regarding 10 Week Course for Entrepreneurs in Harlingen. Four organizations have banded together to support entrepreneurs throughout Harlingen\, TX. The Harlingen Economic Development Corporation (HEDC)\, The Tropical Texas Regional Center of Innovation and Commercialization (TTRCIC)\, Texas State Technical College (TSTC) and The International Innovation & Entrepreneurship Center (IIEC) at UTB are collaborating to provide Kauffman FastTrac® NewVentureTM training to entrepreneurs in Harlingen.\n\nThe HEDC and TTRCIC have allocated funds to provide scholarships to individuals seeking to complete the training. The funding will allow for 100 % scholarships for up to 10 individuals. Scholarships are available for those who qualify.  Training is scheduled to begin on Tuesday\, June 12\, 2012.  Registration will run through Monday\, \nJune 11\,  2012.  Space is limited.\n\nTo learn more and to apply\, visit http://utb.affiliate.fasttrac.org  or contact John Sossi or Ruben Ceballos at (956) 882-4119.  For more information\,  click here.
X-ALT-DESC;FMTTYPE=text/html:New Information Regarding 10 Week Course for Entrepreneurs in Harlingen. Four organizations have banded together to support entrepreneurs throughout Harlingen\, TX. The Harlingen Economic Development Corporation (HEDC)\, The Tropical Texas Regional Center of Innovation and Commercialization (TTRCIC)\, Texas State Technical College (TSTC) and The International Innovation & Entrepreneurship Center (IIEC) at UTB are collaborating to provide Kauffman FastTrac® NewVentureTM training to entrepreneurs in Harlingen.\n\nThe HEDC and TTRCIC have allocated funds to provide scholarships to individuals seeking to complete the training. The funding will allow for 100 % scholarships for up to 10 individuals. Scholarships are available for those who qualify.  Training is scheduled to begin on Tuesday\, June 12\, 2012.  Registration will run through Monday\, \nJune 11\,  2012.  Space is limited.\n\nTo learn more and to apply\, visit http://utb.affiliate.fasttrac.org  or contact John Sossi or Ruben Ceballos at (956) 882-4119.  For more information\,  click here. \n
LOCATION:
UID:e.1828.3649
SEQUENCE:3
DTSTAMP:20260420T114534Z
URL:https://business.harlingen.com/events/details/10-week-course-for-entrepreneurs-in-harlingen-06-11-2012-3649
END:VEVENT

END:VCALENDAR
