BEGIN:VCALENDAR
VERSION:2.0
PRODID:-//ChamberMaster//Event Calendar 2.0//EN
METHOD:PUBLISH
X-PUBLISHED-TTL:P3D
REFRESH-INTERVAL:P3D
CALSCALE:GREGORIAN
BEGIN:VEVENT
DTSTART:20121018T230000Z
DTEND:20121019T020000Z
X-MICROSOFT-CDO-ALLDAYEVENT:FALSE
SUMMARY:10TH Annual Taste of Harlingen ''All Aboard the Orient Express''
DESCRIPTION:Join us as we celebrate local restaurants showcasing their culinary expertise. Silent Auction & Gift Box Sale\, Music by Brett Marshall. Tickets Advance $55. per- person\, $65. At the Door.  Tcket may be purchased at Harlingen Chamber of Commerce\, the Arts & Entertainment Ticket Office at the Auditorium and from all board members. Scheduled from 6:00pm - 9:00 pm at 2425 Boxwood Street. For more information\, please call the Museum at 956-216-4901 or www.tasteofharlingen.com
X-ALT-DESC;FMTTYPE=text/html:Join us as we celebrate local restaurants showcasing their culinary expertise. Silent Auction & Gift Box Sale\, Music by Brett Marshall. Tickets Advance $55. per- person\, $65. At the Door.  Tcket may be purchased at Harlingen Chamber of Commerce\, the Arts & Entertainment Ticket Office at the Auditorium and from all board members. Scheduled from 6:00pm - 9:00 pm at 2425 Boxwood Street. For more information\, please call the Museum at 956-216-4901 or www.tasteofharlingen.com  \n
LOCATION:
UID:e.1828.3999
SEQUENCE:3
DTSTAMP:20260420T102230Z
URL:https://business.harlingen.com/events/details/10th-annual-taste-of-harlingen-all-aboard-the-orient-express-10-18-2012-3999
END:VEVENT

END:VCALENDAR
