BEGIN:VCALENDAR
VERSION:2.0
PRODID:-//ChamberMaster//Event Calendar 2.0//EN
METHOD:PUBLISH
X-PUBLISHED-TTL:P3D
REFRESH-INTERVAL:P3D
CALSCALE:GREGORIAN
BEGIN:VEVENT
DTSTART:20110507T230000Z
DTEND:20110508T030000Z
X-MICROSOFT-CDO-ALLDAYEVENT:FALSE
SUMMARY:11th Annual Blues on the Hill Concert Series
DESCRIPTION:Harlingen Parks and Recreation Department along with Harlingen Volunteer Involvement Council presents a great evening of entertainment and fun. Southern Train\, Evelyn Rubio with Eric Demmer & The Sax Dawgs and Rich Del Grosso.  Lawn chairs\, blankets and beach towels are welcome. Food and cold beverages will be sold. (No outside food or beverages please). Free Admission. The public is invited. For information\, call the Harlingen Parks and Recreation Department at (956) 216-5950.  Location McKelvey Park at 1325 S 77 Sunshine Strip.
X-ALT-DESC;FMTTYPE=text/html:Harlingen Parks and Recreation Department along with Harlingen Volunteer Involvement Council presents a great evening of entertainment and fun. Southern Train\, Evelyn Rubio with Eric Demmer & The Sax Dawgs and Rich Del Grosso.  Lawn chairs\, blankets and beach towels are welcome. Food and cold beverages will be sold. (No outside food or beverages please). Free Admission. The public is invited. For information\, call the Harlingen Parks and Recreation Department at (956) 216-5950.  Location McKelvey Park at 1325 S 77 Sunshine Strip.\n
LOCATION:
UID:e.1828.2707
SEQUENCE:3
DTSTAMP:20260421T112236Z
URL:https://business.harlingen.com/events/details/11th-annual-blues-on-the-hill-concert-series-05-07-2011-2707
END:VEVENT

END:VCALENDAR
