BEGIN:VCALENDAR
VERSION:2.0
PRODID:-//ChamberMaster//Event Calendar 2.0//EN
METHOD:PUBLISH
X-PUBLISHED-TTL:P3D
REFRESH-INTERVAL:P3D
CALSCALE:GREGORIAN
BEGIN:VEVENT
DTSTART:20110820T230000Z
DTEND:20110821T030000Z
X-MICROSOFT-CDO-ALLDAYEVENT:FALSE
SUMMARY:11th Annual Blues on the Hill Concert Series
DESCRIPTION:Harlingen Parks and Recreation Department along with Harlingen Volunteer Involvement Council presents a great evening of music entertainment and fun Preston Shannon "The King of Beale Street"\, Baby Atlas and Rick Lugo Band. Lawn chairs\, blankets and beach towels are welcome. Food and cold beverages will be sold. (No outside food or beverages please). Free Admission. The public is invited. For information\, call the Harlingen Parks and Recreation Department at (956) 216-5950.  Location McKelvey Park at 1325 S 77 Sunshine Strip.
X-ALT-DESC;FMTTYPE=text/html:Harlingen Parks and Recreation Department along with Harlingen Volunteer Involvement Council presents a great evening of music entertainment and fun Preston Shannon "The King of Beale Street"\, Baby Atlas and Rick Lugo Band. Lawn chairs\, blankets and beach towels are welcome. Food and cold beverages will be sold. (No outside food or beverages please). Free Admission. The public is invited. For information\, call the Harlingen Parks and Recreation Department at (956) 216-5950.  Location McKelvey Park at 1325 S 77 Sunshine Strip.\n
LOCATION:
UID:e.1828.2714
SEQUENCE:3
DTSTAMP:20260421T052940Z
URL:https://business.harlingen.com/events/details/11th-annual-blues-on-the-hill-concert-series-08-20-2011-2714
END:VEVENT

END:VCALENDAR
