BEGIN:VCALENDAR
VERSION:2.0
PRODID:-//ChamberMaster//Event Calendar 2.0//EN
METHOD:PUBLISH
X-PUBLISHED-TTL:P3D
REFRESH-INTERVAL:P3D
CALSCALE:GREGORIAN
BEGIN:VEVENT
DTSTART:20110513T173000Z
DTEND:20110514T010000Z
X-MICROSOFT-CDO-ALLDAYEVENT:FALSE
SUMMARY:11th Annual Chamber Golf Tournament
DESCRIPTION:Shotgun starts at 12:30 p.m.
X-ALT-DESC;FMTTYPE=text/html:Shotgun starts at 12:30 p.m.
LOCATION:
UID:e.1828.3021
SEQUENCE:3
DTSTAMP:20260421T111122Z
URL:https://business.harlingen.com/events/details/11th-annual-chamber-golf-tournament-05-13-2011-3021
END:VEVENT

END:VCALENDAR
