BEGIN:VCALENDAR
VERSION:2.0
PRODID:-//ChamberMaster//Event Calendar 2.0//EN
METHOD:PUBLISH
X-PUBLISHED-TTL:P3D
REFRESH-INTERVAL:P3D
CALSCALE:GREGORIAN
BEGIN:VEVENT
DTSTART;VALUE=DATE:20101029
DTEND;VALUE=DATE:20101031
TRANSP:TRANSPARENT
X-MICROSOFT-CDO-ALLDAYEVENT:TRUE
SUMMARY:11th Annual Heritage and Nature Festival/ Wild in Willacy Boot Fest
DESCRIPTION:Fun for all age group tours\, exhibits\, trade show\, children's program\, attractions\, Wild in Willacy Cook-Off.  For more information please call (956) 689-1864.
X-ALT-DESC;FMTTYPE=text/html: Fun for all age group tours\, exhibits\, trade show\, children's program\, attractions\, Wild in Willacy Cook-Off.  For more information please call (956) 689-1864.
LOCATION:Festival Head Quarters: L.E. Franks Tourist Center\, 501 South 7th Street\, Raymondville\, TX.
UID:e.1828.2789
SEQUENCE:3
DTSTAMP:20260421T204055Z
URL:https://business.harlingen.com/events/details/11th-annual-heritage-and-nature-festival-wild-in-willacy-boot-fest-10-29-2010-2789
END:VEVENT

END:VCALENDAR
