BEGIN:VCALENDAR
VERSION:2.0
PRODID:-//ChamberMaster//Event Calendar 2.0//EN
METHOD:PUBLISH
X-PUBLISHED-TTL:P3D
REFRESH-INTERVAL:P3D
CALSCALE:GREGORIAN
BEGIN:VEVENT
DTSTART:20100213T160000Z
DTEND:20100213T230000Z
X-MICROSOFT-CDO-ALLDAYEVENT:FALSE
SUMMARY:11th Annual Ocelot Conservation Festival
DESCRIPTION:11th Annual Ocelot Conservation Festival on Saturday\, February 13\, 2010 from 10 a.m. to 5 p.m. (rain or shine) at the Marine Military Academy\, Harlingen\, Texas.  All proceeds go to ocelot research and conservation!  Volunteers are needed! Please call (956)748-3607 if you would like to help.  Cost: $5 for adults\, $3 for children (12 and under)\, $20 for a family (six or more family members)\, $50 for Organized Groups (15 or more) and Children under the age of four can enter for free.  For more information about the festival\, please contact the Refuge at 956-748-3607.
X-ALT-DESC;FMTTYPE=text/html:11th Annual Ocelot Conservation Festival on Saturday\, February 13\, 2010 from 10 a.m. to 5 p.m. (rain or shine) at the Marine Military Academy\, Harlingen\, Texas.  All proceeds go to ocelot research and conservation!  Volunteers are needed! Please call (956)748-3607 if you would like to help.  Cost: $5 for adults\, $3 for children (12 and under)\, $20 for a family (six or more family members)\, $50 for Organized Groups (15 or more) and Children under the age of four can enter for free.  For more information about the festival\, please contact the Refuge at 956-748-3607.\n\n\n
LOCATION:From Expressway 77\, exit straight on to Loop 499 (Primera Road). Follow the airport signs. At FM 507\, turn left. Turn right onto Iwo Jima Blvd. (the Iwo Jima monument will be on the right side of the road\, across from the festival) and follow the festival signs.
UID:e.1828.2248
SEQUENCE:3
DTSTAMP:20260422T094000Z
URL:https://business.harlingen.com/events/details/11th-annual-ocelot-conservation-festival-02-13-2010-2248
END:VEVENT

END:VCALENDAR
