BEGIN:VCALENDAR
VERSION:2.0
PRODID:-//ChamberMaster//Event Calendar 2.0//EN
METHOD:PUBLISH
X-PUBLISHED-TTL:P3D
REFRESH-INTERVAL:P3D
CALSCALE:GREGORIAN
BEGIN:VEVENT
DTSTART:20120511T173000Z
DTEND:20120511T173000Z
X-MICROSOFT-CDO-ALLDAYEVENT:FALSE
SUMMARY:12th Annual Chamber Golf Tournament
DESCRIPTION:The 12th Annual Chamber Golf Tournament is Friday\, May 11th at the Harlingen Country Club. Registration begins at 11:30 am 12:30 pm Shot Gun Starts. TEAM SLOTS AND SPONSORSHIP OPPORTUNITIES ARE STILL AVAILABLE - REGISTER TODAY! REGISTRATION DEADLINE IS FRIDAY\, MAY 4th. Grab your clubs and get ready for one of the best golf tournaments in the Valley! So gather your team and make plans to join in the fun\, friendly competition and the chance to win some great prizes! Don't miss your chance to win some great hole-in-one prizes sponsored by Boggus Ford Lincoln Mercury. Also\, this year we are bringing back the Chamber Advantage and Hole-in-One Putting Contest\, giving you the opportunity to win $1\,000\,000\, as well as many other exciting giveaways.  Anyone interested in donating a door prize\, team prize\, items for the goodie bag or playing in the tournament can contact Melissa at 423-5440 ext. 218. Don't wait until it is too late\, registration deadline is May 4th! Remember\, you don't have to be a member to play in the tournament\; the Chamber welcomes your participation and the opportunity to meet you.
X-ALT-DESC;FMTTYPE=text/html:The 12th Annual Chamber Golf Tournament is Friday\, May 11th at the Harlingen Country Club. Registration begins at 11:30 am 12:30 pm Shot Gun Starts. TEAM SLOTS AND SPONSORSHIP OPPORTUNITIES ARE STILL AVAILABLE - REGISTER TODAY! REGISTRATION DEADLINE IS FRIDAY\, MAY 4th. Grab your clubs and get ready for one of the best golf tournaments in the Valley! So gather your team and make plans to join in the fun\, friendly competition and the chance to win some great prizes! Don't miss your chance to win some great hole-in-one prizes sponsored by Boggus Ford Lincoln Mercury. Also\, this year we are bringing back the Chamber Advantage and Hole-in-One Putting Contest\, giving you the opportunity to win $1\,000\,000\, as well as many other exciting giveaways.  Anyone interested in donating a door prize\, team prize\, items for the goodie bag or playing in the tournament can contact Melissa at 423-5440 ext. 218. Don't wait until it is too late\, registration deadline is May 4th! Remember\, you don't have to be a member to play in the tournament\; the Chamber welcomes your participation and the opportunity to meet you.
LOCATION:
UID:e.1828.3599
SEQUENCE:3
DTSTAMP:20260420T163615Z
URL:https://business.harlingen.com/events/details/12th-annual-chamber-golf-tournament-05-11-2012-3599
END:VEVENT

END:VCALENDAR
