BEGIN:VCALENDAR
VERSION:2.0
PRODID:-//ChamberMaster//Event Calendar 2.0//EN
METHOD:PUBLISH
X-PUBLISHED-TTL:P3D
REFRESH-INTERVAL:P3D
CALSCALE:GREGORIAN
BEGIN:VEVENT
DTSTART:20120411T130000Z
DTEND:20120412T210000Z
X-MICROSOFT-CDO-ALLDAYEVENT:FALSE
SUMMARY:12th Annual Sexual Assault Training ''30 YEARS of Working to End Sexual Violence in Texas''
DESCRIPTION:On April 11th and 12th\, the Family Crisis Center\, Inc. in partnership with the Texas Association Against Sexual Assault\, present\, their 12th Annual Sexual Assault Training\, entitled ''30 Years of Working to End Sexual Violence in Texas.'' The training will be held at Spirit of Praise Church located at 25674 Lewis Lane\, Harlingen\, Texas\; registration fee is $10.00.  CEU and TCLEOSE credits will be provided.  For further information\, please contact Terry Sanchez or Oralia Jaure at 956-423-9305.
X-ALT-DESC;FMTTYPE=text/html:On April 11th and 12th\, the Family Crisis Center\, Inc. in partnership with the Texas Association Against Sexual Assault\, present\, their 12th Annual Sexual Assault Training\, entitled ''30 Years of Working to End Sexual Violence in Texas.'' The training will be held at Spirit of Praise Church located at 25674 Lewis Lane\, Harlingen\, Texas\; registration fee is $10.00.  CEU and TCLEOSE credits will be provided.  For further information\, please contact Terry Sanchez or Oralia Jaure at 956-423-9305.\n\n
LOCATION:Spirit of Praise Church located at 25674 Lewis Lane\, Harlingen\, Texas
UID:e.1828.3608
SEQUENCE:3
DTSTAMP:20260420T163932Z
URL:https://business.harlingen.com/events/details/12th-annual-sexual-assault-training-30-years-of-working-to-end-sexual-violence-in-texas-04-11-2012-3608
END:VEVENT

END:VCALENDAR
