BEGIN:VCALENDAR
VERSION:2.0
PRODID:-//ChamberMaster//Event Calendar 2.0//EN
METHOD:PUBLISH
X-PUBLISHED-TTL:P3D
REFRESH-INTERVAL:P3D
CALSCALE:GREGORIAN
BEGIN:VEVENT
DTSTART:20120410T220000Z
DTEND:20120411T020000Z
X-MICROSOFT-CDO-ALLDAYEVENT:FALSE
SUMMARY:13th Annual Ocelot Conservation Festival
DESCRIPTION:The Fiesta will include live Ocelot shows\, mariachi music\, games\, booths and much more.  For more information\, call the Laguna Atascosa NWR @ (956) 748-3607 or visit www.friendsofsouthtexasrefuges.org
X-ALT-DESC;FMTTYPE=text/html:The Fiesta will include live Ocelot shows\, mariachi music\, games\, booths and much more.  For more information\, call the Laguna Atascosa NWR @ (956) 748-3607 or visit www.friendsofsouthtexasrefuges.org\n
LOCATION:
UID:e.1828.3617
SEQUENCE:3
DTSTAMP:20260420T181921Z
URL:https://business.harlingen.com/events/details/13th-annual-ocelot-conservation-festival-04-10-2012-3617
END:VEVENT

END:VCALENDAR
