BEGIN:VCALENDAR
VERSION:2.0
PRODID:-//ChamberMaster//Event Calendar 2.0//EN
METHOD:PUBLISH
X-PUBLISHED-TTL:P3D
REFRESH-INTERVAL:P3D
CALSCALE:GREGORIAN
BEGIN:VEVENT
DTSTART:20120607T233000Z
DTEND:20120608T013000Z
X-MICROSOFT-CDO-ALLDAYEVENT:FALSE
SUMMARY:16th Anniversary Celebration Harlingen Nursing and Rehabilitation Center
DESCRIPTION:Our 16th Anniversary come and celebrate with us. Appetizers\, Spirits and Giveaways!  RSVP: Clarie Martinez 956-778-4563.
X-ALT-DESC;FMTTYPE=text/html:Our 16th Anniversary come and celebrate with us. Appetizers\, Spirits and Giveaways!  RSVP: Clarie Martinez 956-778-4563. 
LOCATION:
UID:e.1828.3747
SEQUENCE:3
DTSTAMP:20260420T132903Z
URL:https://business.harlingen.com/events/details/16th-anniversary-celebration-harlingen-nursing-and-rehabilitation-center-06-07-2012-3747
END:VEVENT

END:VCALENDAR
