BEGIN:VCALENDAR
VERSION:2.0
PRODID:-//ChamberMaster//Event Calendar 2.0//EN
METHOD:PUBLISH
X-PUBLISHED-TTL:P3D
REFRESH-INTERVAL:P3D
CALSCALE:GREGORIAN
BEGIN:VEVENT
DTSTART:20100218T233000Z
DTEND:20100219T013000Z
X-MICROSOFT-CDO-ALLDAYEVENT:FALSE
SUMMARY:16th Annual Harlingen Rotary Shrimp Festival
DESCRIPTION:LIVE AUCTION/SILENT AUCTION/DOOR PRIZES! A GUARANTEED GOOD TIME. BRING YOUR FRIENDS! Tickets $20 per person.  The shrimp festival will be held in the new event center located in the former El Globo Grocery building on Business 77 in San Benito.  For more information\, please contact Tommy Mathis at 956-943-1315 or 956-330-4281.
X-ALT-DESC;FMTTYPE=text/html:LIVE AUCTION/SILENT AUCTION/DOOR PRIZES! A GUARANTEED GOOD TIME. BRING YOUR FRIENDS! Tickets $20 per person.  The shrimp festival will be held in the new event center located in the former El Globo Grocery building on Business 77 in San Benito.  For more information\, please contact Tommy Mathis at 956-943-1315 or 956-330-4281.
LOCATION:Next door to Whalen's Furniture.
UID:e.1828.1894
SEQUENCE:3
DTSTAMP:20260422T095125Z
URL:https://business.harlingen.com/events/details/16th-annual-harlingen-rotary-shrimp-festival-02-18-2010-1894
END:VEVENT

END:VCALENDAR
