BEGIN:VCALENDAR
VERSION:2.0
PRODID:-//ChamberMaster//Event Calendar 2.0//EN
METHOD:PUBLISH
X-PUBLISHED-TTL:P3D
REFRESH-INTERVAL:P3D
CALSCALE:GREGORIAN
BEGIN:VEVENT
DTSTART;VALUE=DATE:20091112
DTEND;VALUE=DATE:20091116
TRANSP:TRANSPARENT
X-MICROSOFT-CDO-ALLDAYEVENT:TRUE
SUMMARY:16th Annual Rio Grande Valley Birding Festival
DESCRIPTION:The 16th Annual Rio Grande Valley Birding Festival will be held November 12th through November 15th. Make plans to take one of our many birding field trips or attend some of our highly entertaining & educational seminars. Be sure to visit the trade show which features a wide variety of vendors offering products & services for birders of all ages & levels of experience. For more information\, please contact the Harlingen Convention & Visitors Bureau at 1-800-531-7346 or locally at 956-423-5440 or visit the website at www.rgvbirdfest.com
X-ALT-DESC;FMTTYPE=text/html:The 16th Annual Rio Grande Valley Birding Festival will be held November 12th through November 15th. Make plans to take one of our many birding field trips or attend some of our highly entertaining & educational seminars. Be sure to visit the trade show which features a wide variety of vendors offering products & services for birders of all ages & levels of experience. For more information\, please contact the Harlingen Convention & Visitors Bureau at 1-800-531-7346 or locally at 956-423-5440 or visit the website at www.rgvbirdfest.com
LOCATION:Harlingen Municipal Auditorium
UID:e.1828.1765
SEQUENCE:3
DTSTAMP:20260422T144546Z
URL:https://business.harlingen.com/events/details/16th-annual-rio-grande-valley-birding-festival-11-12-2009-1765
END:VEVENT

END:VCALENDAR
