BEGIN:VCALENDAR
VERSION:2.0
PRODID:-//ChamberMaster//Event Calendar 2.0//EN
METHOD:PUBLISH
X-PUBLISHED-TTL:P3D
REFRESH-INTERVAL:P3D
CALSCALE:GREGORIAN
BEGIN:VEVENT
DTSTART:20110217T233000Z
DTEND:20110218T013000Z
X-MICROSOFT-CDO-ALLDAYEVENT:FALSE
SUMMARY:16th Annual Rotary Shrimp Fest
DESCRIPTION:LIVE AUCTION/SILENT AUCTION/DOOR PRIZES!  GUARANTEED GOOD TIME!  BRING YOUR FRIENDS!  For people too busy to stay and enjoy the fellowship\, we also have dinners to go.  Plenty of seating and parking.  Tickets availble at the door $20 per person. Proceeds benefit community projects of the four Rotary Clubs in Harlingen and San Benito.\nFor more information\, please contact Janet Hubbard at (956) 423-1014.
X-ALT-DESC;FMTTYPE=text/html:LIVE AUCTION/SILENT AUCTION/DOOR PRIZES!  GUARANTEED GOOD TIME!  BRING YOUR FRIENDS!  For people too busy to stay and enjoy the fellowship\, we also have dinners to go.  Plenty of seating and parking.  Tickets availble at the door $20 per person. Proceeds benefit community projects of the four Rotary Clubs in Harlingen and San Benito.\nFor more information\, please contact Janet Hubbard at (956) 423-1014.\n
LOCATION:
UID:e.1828.2698
SEQUENCE:3
DTSTAMP:20260421T153620Z
URL:https://business.harlingen.com/events/details/16th-annual-rotary-shrimp-fest-02-17-2011-2698
END:VEVENT

END:VCALENDAR
