BEGIN:VCALENDAR
VERSION:2.0
PRODID:-//ChamberMaster//Event Calendar 2.0//EN
METHOD:PUBLISH
X-PUBLISHED-TTL:P3D
REFRESH-INTERVAL:P3D
CALSCALE:GREGORIAN
BEGIN:VEVENT
DTSTART;VALUE=DATE:20100910
DTEND;VALUE=DATE:20100919
TRANSP:TRANSPARENT
X-MICROSOFT-CDO-ALLDAYEVENT:TRUE
SUMMARY:17th Annual Cinesol Film Festival 2010
DESCRIPTION:CineSol Film Festival is a showcase festival that makes its way across the Rio Grande Valley\, celebrating achievement in the art of filmmaking. CineSol is dedicated to furthering the art\, craft and business of screenwriters and filmmakers and recognizing their artistic contributions. CineSol supports the work of aspiring and established filmmakers by enhancing public awareness of their artistic endeavors and by encouraging dynamic and long-lasting community alliances.  CineSol made its historic debut in September 1993 in celebration of National Hispanic Heritage Month. It provided the Texas Border Region with its first film festival ever\, including cultural art events in the Mexican cities of Matamoros and Reynosa\, Tamaulipas. CineSol has traveled throughout the region\, bringing voice and vision through film and video directly to border communities. \nFestival Passes for both OPENING and CLOSING weekend is $125.  Opening Weekend Pass is $75.  Closing Weekend All Day Saturday Pass is $30.  TSTC students free with Student ID. Film Race participants free with Race Badge.  OPENING WEEKEND individual prices.  Individual screenings are $5 except for MUSICA EN ESPERA\, PANTS ON FIRE and the RESULTS OF THE 36 HOUR FILM RACE. Admission will be $10. There are different types of passes available at the door.  CLOSING WEEKEND individual prices for individual screenings or workshops are $5. The only exception is ANDY PARIS: BUBBLEGUM KING on September 18th @ 8:00p. Admission will be $10 because there will be a reception.  For more information\, or to view screening schedule\, please visit www.cinesol.com/schedule or call 956-793-8783.
X-ALT-DESC;FMTTYPE=text/html:CineSol Film Festival is a showcase festival that makes its way across the Rio Grande Valley\, celebrating achievement in the art of filmmaking. CineSol is dedicated to furthering the art\, craft and business of screenwriters and filmmakers and recognizing their artistic contributions. CineSol supports the work of aspiring and established filmmakers by enhancing public awareness of their artistic endeavors and by encouraging dynamic and long-lasting community alliances.  CineSol made its historic debut in September 1993 in celebration of National Hispanic Heritage Month. It provided the Texas Border Region with its first film festival ever\, including cultural art events in the Mexican cities of Matamoros and Reynosa\, Tamaulipas. CineSol has traveled throughout the region\, bringing voice and vision through film and video directly to border communities. \nFestival Passes for both OPENING and CLOSING weekend is $125.  Opening Weekend Pass is $75.  Closing Weekend All Day Saturday Pass is $30.  TSTC students free with Student ID. Film Race participants free with Race Badge.  OPENING WEEKEND individual prices.  Individual screenings are $5 except for MUSICA EN ESPERA\, PANTS ON FIRE and the RESULTS OF THE 36 HOUR FILM RACE. Admission will be $10. There are different types of passes available at the door.  CLOSING WEEKEND individual prices for individual screenings or workshops are $5. The only exception is ANDY PARIS: BUBBLEGUM KING on September 18th @ 8:00p. Admission will be $10 because there will be a reception.  For more information\, or to view screening schedule\, please visit www.cinesol.com/schedule or call 956-793-8783.\n
LOCATION:
UID:e.1828.2739
SEQUENCE:3
DTSTAMP:20260422T002114Z
URL:https://business.harlingen.com/events/details/17th-annual-cinesol-film-festival-2010-09-10-2010-2739
END:VEVENT

END:VCALENDAR
