BEGIN:VCALENDAR
VERSION:2.0
PRODID:-//ChamberMaster//Event Calendar 2.0//EN
METHOD:PUBLISH
X-PUBLISHED-TTL:P3D
REFRESH-INTERVAL:P3D
CALSCALE:GREGORIAN
BEGIN:VEVENT
DTSTART;VALUE=DATE:20111109
DTEND;VALUE=DATE:20111114
TRANSP:TRANSPARENT
X-MICROSOFT-CDO-ALLDAYEVENT:TRUE
SUMMARY:18th Annual Rio Grande Valley Birding Festival
DESCRIPTION:It's That Time of Year Again!\n The 18th Annual Rio Grande Valley Birding Festival\n\nNovember 9 - 13\, 2011 \n \nDid you forget to pre-register online? It's OK! If you're still looking to check that special bird off of your list\, on-site registration will be available during the festival. \n \nOr\, if you are looking to check that special gift off of your Holiday shopping list instead\, come visit the Birder's Bazaar\, Thursday & Friday 12n - 6p\, \nSaturday 10a - 6p\, and Sunday 12n - 4p. Free and open to the public.\n \nDon't forget to bring the kids! The Raptor Project School Program on Friday \n9a -10a will feature Jonathan Wood and his magnificent Birds of Prey. \nAs well as arts & crafts\, games and other fun stuff at Kiskadee Korner on \nSaturday & Sunday 12n - 4p. Free and open to the Public.
X-ALT-DESC;FMTTYPE=text/html: It's That Time of Year Again!\n The 18th Annual Rio Grande Valley Birding Festival\n\nNovember 9 - 13\, 2011 \n \nDid you forget to pre-register online? It's OK! If you're still looking to check that special bird off of your list\, on-site registration will be available during the festival. \n \nOr\, if you are looking to check that special gift off of your Holiday shopping list instead\, come visit the Birder's Bazaar\, Thursday & Friday 12n - 6p\, \nSaturday 10a - 6p\, and Sunday 12n - 4p. Free and open to the public.\n \nDon't forget to bring the kids! The Raptor Project School Program on Friday \n9a -10a will feature Jonathan Wood and his magnificent Birds of Prey. \nAs well as arts & crafts\, games and other fun stuff at Kiskadee Korner on \nSaturday & Sunday 12n - 4p. Free and open to the Public.\n\n  \n \n\n\n\n\n
LOCATION:
UID:e.1828.3234
SEQUENCE:3
DTSTAMP:20260421T021656Z
URL:https://business.harlingen.com/events/details/18th-annual-rio-grande-valley-birding-festival-11-09-2011-3234
END:VEVENT

END:VCALENDAR
