BEGIN:VCALENDAR
VERSION:2.0
PRODID:-//ChamberMaster//Event Calendar 2.0//EN
METHOD:PUBLISH
X-PUBLISHED-TTL:P3D
REFRESH-INTERVAL:P3D
CALSCALE:GREGORIAN
BEGIN:VEVENT
DTSTART:20101201T003000Z
DTEND:20101201T003000Z
X-MICROSOFT-CDO-ALLDAYEVENT:FALSE
SUMMARY:19th Annual Lights for Life Ceremony
DESCRIPTION:Join us for this very special evening that will include a tree lighting ceremony and much more. *An important guest will be making an appearance for all those who believe!
X-ALT-DESC;FMTTYPE=text/html:Join us for this very special evening that will include a tree lighting ceremony and much more. *An important guest will be making an appearance for all those who believe! \n\n
LOCATION:
UID:e.1828.2847
SEQUENCE:3
DTSTAMP:20260421T203524Z
URL:https://business.harlingen.com/events/details/19th-annual-lights-for-life-ceremony-11-30-2010-2847
END:VEVENT

END:VCALENDAR
