BEGIN:VCALENDAR
VERSION:2.0
PRODID:-//ChamberMaster//Event Calendar 2.0//EN
METHOD:PUBLISH
X-PUBLISHED-TTL:P3D
REFRESH-INTERVAL:P3D
CALSCALE:GREGORIAN
BEGIN:VEVENT
DTSTART:20091121T130000Z
DTEND:20091121T170000Z
X-MICROSOFT-CDO-ALLDAYEVENT:FALSE
SUMMARY:19th Annual Ranch Hand Breakfast at King Ranch
DESCRIPTION:Enjoy a real cowboy breakfast cooked and served on historic King Ranch. Ranch tours and cowboy demonstrations are just part of the holiday family fun! Tickets $6.00 each. Sponsored by King Ranch\, Inc. and Community Volunteers. For more info contact Kingsville Convention and Visitors Bureau 361-592-8516 or 800-333-5032. www.kingsvilletexas.com cvb@kingsvilletexas.com
X-ALT-DESC;FMTTYPE=text/html:Enjoy a real cowboy breakfast cooked and served on historic King Ranch. Ranch tours and cowboy demonstrations are just part of the holiday family fun! Tickets $6.00 each. Sponsored by King Ranch\, Inc. and Community Volunteers. For more info contact Kingsville Convention and Visitors Bureau 361-592-8516 or 800-333-5032. www.kingsvilletexas.com cvb@kingsvilletexas.com\n
LOCATION:
UID:e.1828.2143
SEQUENCE:3
DTSTAMP:20260422T125929Z
URL:https://business.harlingen.com/events/details/19th-annual-ranch-hand-breakfast-at-king-ranch-11-21-2009-2143
END:VEVENT

END:VCALENDAR
