BEGIN:VCALENDAR
VERSION:2.0
PRODID:-//ChamberMaster//Event Calendar 2.0//EN
METHOD:PUBLISH
X-PUBLISHED-TTL:P3D
REFRESH-INTERVAL:P3D
CALSCALE:GREGORIAN
BEGIN:VEVENT
DTSTART;VALUE=DATE:20121107
DTEND;VALUE=DATE:20121112
TRANSP:TRANSPARENT
X-MICROSOFT-CDO-ALLDAYEVENT:TRUE
SUMMARY:19th Annual Rio Grande Valley Birding Festival
DESCRIPTION:November 7 – 11\, Harlingen - 19th Annual RGV Birding Festival\nThe RGV Birding Festival features a variety of seminars and field trips each year. The 2013 festival is scheduled to run Nov. 7-11. A trade show will also be held during the course of the festival. Field trips depart from the Harlingen Municipal Auditorium complex. For more information\, please visit the festival website at www.rgvbf.org or call 209-227-4823 or (956) 423-5565 Ext. 223\n\n\n\n\n\n\nFor general information please call 209-227-4823. Questions on registration please call 956-423-5565 ext. 223 or visit website at www.rgvbf.org
X-ALT-DESC;FMTTYPE=text/html:November 7 – 11\, Harlingen - 19th Annual RGV Birding Festival\nThe RGV Birding Festival features a variety of seminars and field trips each year. The 2013 festival is scheduled to run Nov. 7-11. A trade show will also be held during the course of the festival. Field trips depart from the Harlingen Municipal Auditorium complex. For more information\, please visit the festival website at www.rgvbf.org or call 209-227-4823 or (956) 423-5565 Ext. 223\n\n\n\n\n\n\nFor general information please call 209-227-4823. Questions on registration please call 956-423-5565 ext. 223 or visit website at www.rgvbf.org
LOCATION:
UID:e.1828.3956
SEQUENCE:3
DTSTAMP:20260420T090156Z
URL:https://business.harlingen.com/events/details/19th-annual-rio-grande-valley-birding-festival-11-07-2012-3956
END:VEVENT

END:VCALENDAR
