BEGIN:VCALENDAR
VERSION:2.0
PRODID:-//ChamberMaster//Event Calendar 2.0//EN
METHOD:PUBLISH
X-PUBLISHED-TTL:P3D
REFRESH-INTERVAL:P3D
CALSCALE:GREGORIAN
BEGIN:VEVENT
DTSTART:20120720T113000Z
DTEND:20120720T113000Z
X-MICROSOFT-CDO-ALLDAYEVENT:FALSE
SUMMARY:1st Annual FCA Champions Golf Tournament
DESCRIPTION:Special prizes!  Guest speaker will be Former Golfer on the Tour\, Mike Brisky!  Come join us and consider sponsoring a team.  With your help\, we can continue to make an IMPACT in the lives of students and schools across the valley. For more information on sponsorship opportunities or to register\, contact:  Fellowship of Christian Athletes at (956) 994-1121 or rgv@fca.org.  \n\nRegistration:  6:30 a.m. - 8:00 a.m.\nShotgun Start:  8:30 a.m.\nLunch & Awards:  12:30 p.m.
X-ALT-DESC;FMTTYPE=text/html:Special prizes!  Guest speaker will be Former Golfer on the Tour\, Mike Brisky!  Come join us and consider sponsoring a team.  With your help\, we can continue to make an IMPACT in the lives of students and schools across the valley. For more information on sponsorship opportunities or to register\, contact:  Fellowship of Christian Athletes at (956) 994-1121 or rgv@fca.org.  \n\nRegistration:  6:30 a.m. - 8:00 a.m.\nShotgun Start:  8:30 a.m.\nLunch & Awards:  12:30 p.m. 
LOCATION:
UID:e.1828.3861
SEQUENCE:3
DTSTAMP:20260420T115443Z
URL:https://business.harlingen.com/events/details/1st-annual-fca-champions-golf-tournament-07-20-2012-3861
END:VEVENT

END:VCALENDAR
