BEGIN:VCALENDAR
VERSION:2.0
PRODID:-//ChamberMaster//Event Calendar 2.0//EN
METHOD:PUBLISH
X-PUBLISHED-TTL:P3D
REFRESH-INTERVAL:P3D
CALSCALE:GREGORIAN
BEGIN:VEVENT
DTSTART;VALUE=DATE:20111029
DTEND;VALUE=DATE:20111030
TRANSP:TRANSPARENT
X-MICROSOFT-CDO-ALLDAYEVENT:TRUE
SUMMARY:1st ANNUAL HMC GOLF TOURNAMENT
DESCRIPTION:1st ANNUAL HMC GOLF TOURNAMENT\nTo Benefit SPI WALK FOR WOMEN\n12 NOON REGISTRATION & CHECK IN AT CLUB HOUSE\n1:00 PM SHOTGUN START\, THREE PERSON SCRAMBLE\, TOURNAMENT AWARDS: 1st\, 2nd & 3rd PLACE PRIZES & TROPHIES\, CLOSEST TO THE HOLE PRIZES\, HOLE IN ONE PRIZES. ENTRY FEES: $195.00 PER TEAM $65.00 PER PERSON\nINCLUDES: GREEN FEES\, CART & DINNER TO REGISTER FOR THE FIRST ANNUAL HMC GOLF TOURNAMENT OR TO SPONSOR A TEE BOX\, CONTACT THE HMC GOLF COMMITTEE AT Leticia.Kretz@hmcrgv.com or call 956.365.1030 or 956.365.1093.
X-ALT-DESC;FMTTYPE=text/html:1st ANNUAL HMC GOLF TOURNAMENT\nTo Benefit SPI WALK FOR WOMEN\n12 NOON REGISTRATION & CHECK IN AT CLUB HOUSE\n1:00 PM SHOTGUN START\, THREE PERSON SCRAMBLE\, TOURNAMENT AWARDS: 1st\, 2nd & 3rd PLACE PRIZES & TROPHIES\, CLOSEST TO THE HOLE PRIZES\, HOLE IN ONE PRIZES. ENTRY FEES: $195.00 PER TEAM $65.00 PER PERSON\nINCLUDES: GREEN FEES\, CART & DINNER TO REGISTER FOR THE FIRST ANNUAL HMC GOLF TOURNAMENT OR TO SPONSOR A TEE BOX\, CONTACT THE HMC GOLF COMMITTEE AT Leticia.Kretz@hmcrgv.com or call 956.365.1030 or 956.365.1093. \n
LOCATION:
UID:e.1828.3187
SEQUENCE:3
DTSTAMP:20260421T021312Z
URL:https://business.harlingen.com/events/details/1st-annual-hmc-golf-tournament-10-29-2011-3187
END:VEVENT

END:VCALENDAR
