BEGIN:VCALENDAR
VERSION:2.0
PRODID:-//ChamberMaster//Event Calendar 2.0//EN
METHOD:PUBLISH
X-PUBLISHED-TTL:P3D
REFRESH-INTERVAL:P3D
CALSCALE:GREGORIAN
BEGIN:VEVENT
DTSTART:20110508T010000Z
DTEND:20110507T050000Z
X-MICROSOFT-CDO-ALLDAYEVENT:FALSE
SUMMARY:1st Annual Mother's Day Dance with Noe Pro & The Band
DESCRIPTION:Presale tickets $15.00 per person or $25.00 for two\nAt the door\, $17.00 per person\n\nTickets  available at:\n\nSan Benito K.C. Hall  phone # 956-399-4257\nJuvenile Justice Dept.   " "   # 956-399-3075\nBelieve In Us              " "    # 956-399-6442\nBoys & Girls Club of San Benito # 956-399-6442\n\nTable reservations must buy 8 tickets to reserve a table for $100.00 table seats 8 persons.\n\nProceeds to benefit The Boys & Girls Club of San Benito
X-ALT-DESC;FMTTYPE=text/html:Presale tickets $15.00 per person or $25.00 for two\nAt the door\, $17.00 per person\n\nTickets  available at:\n\nSan Benito K.C. Hall  phone # 956-399-4257\nJuvenile Justice Dept.   " "   # 956-399-3075\nBelieve In Us              " "    # 956-399-6442\nBoys & Girls Club of San Benito # 956-399-6442\n\nTable reservations must buy 8 tickets to reserve a table for $100.00 table seats 8 persons.\n\nProceeds to benefit The Boys & Girls Club of San Benito
LOCATION:
UID:e.1828.3038
SEQUENCE:3
DTSTAMP:20260421T094738Z
URL:https://business.harlingen.com/events/details/1st-annual-mother-s-day-dance-with-noe-pro-the-band-05-07-2011-3038
END:VEVENT

END:VCALENDAR
