BEGIN:VCALENDAR
VERSION:2.0
PRODID:-//ChamberMaster//Event Calendar 2.0//EN
METHOD:PUBLISH
X-PUBLISHED-TTL:P3D
REFRESH-INTERVAL:P3D
CALSCALE:GREGORIAN
BEGIN:VEVENT
DTSTART;VALUE=DATE:20100828
DTEND;VALUE=DATE:20100829
TRANSP:TRANSPARENT
X-MICROSOFT-CDO-ALLDAYEVENT:TRUE
SUMMARY:1st Annual RGC Border Patrol Station Softball Bash
DESCRIPTION:One day tournament.  Round-Robin\, 4 games gauranteed.  Entry fee $250 per team.  Tournament location Wilson Sports Complex in Harlingen.  Registration deadline is August 22\, 2010.  To register a team\, contact Chuck Brisneo at 956-648-5433 or Robert Chapa at 956-337-5905.  Prizes for 1st\, 2nd & 3rd Place plus MVP prize.  USSSA Rules apply. USSSA-ASA Approved Bats only.  3 Home Run limit per game\, per team.  Balls must be 40 CORE/375.  Credentials will be checked upon registration (2 non-law enforcement players allowed per team).  Tournament to benefit Border Patrol Agent Eddie Vela.  Thank you for your support!!!
X-ALT-DESC;FMTTYPE=text/html:One day tournament.  Round-Robin\, 4 games gauranteed.  Entry fee $250 per team.  Tournament location Wilson Sports Complex in Harlingen.  Registration deadline is August 22\, 2010.  To register a team\, contact Chuck Brisneo at 956-648-5433 or Robert Chapa at 956-337-5905.  Prizes for 1st\, 2nd & 3rd Place plus MVP prize.  USSSA Rules apply. USSSA-ASA Approved Bats only.  3 Home Run limit per game\, per team.  Balls must be 40 CORE/375.  Credentials will be checked upon registration (2 non-law enforcement players allowed per team).  Tournament to benefit Border Patrol Agent Eddie Vela.  Thank you for your support!!!\n\n\n
LOCATION:
UID:e.1828.2617
SEQUENCE:3
DTSTAMP:20260422T001900Z
URL:https://business.harlingen.com/events/details/1st-annual-rgc-border-patrol-station-softball-bash-08-28-2010-2617
END:VEVENT

END:VCALENDAR
