BEGIN:VCALENDAR
VERSION:2.0
PRODID:-//ChamberMaster//Event Calendar 2.0//EN
METHOD:PUBLISH
X-PUBLISHED-TTL:P3D
REFRESH-INTERVAL:P3D
CALSCALE:GREGORIAN
BEGIN:VEVENT
DTSTART:20120331T150000Z
DTEND:20120331T190000Z
X-MICROSOFT-CDO-ALLDAYEVENT:FALSE
SUMMARY:1st Annual Spring Festival Nazarene Christian Child Care Center and Preschool
DESCRIPTION:Come and join us for some FUN! Game Booths\, Kiddie Rides\, Inflatables\, Sweet Shoppe\, Silent Auction\, Brisket Plates\, Snow Cones\, Candy Apples and Soft Drinks.
X-ALT-DESC;FMTTYPE=text/html:Come and join us for some FUN! Game Booths\, Kiddie Rides\, Inflatables\, Sweet Shoppe\, Silent Auction\, Brisket Plates\, Snow Cones\, Candy Apples and Soft Drinks. \n
LOCATION:
UID:e.1828.3576
SEQUENCE:3
DTSTAMP:20260420T182440Z
URL:https://business.harlingen.com/events/details/1st-annual-spring-festival-nazarene-christian-child-care-center-and-preschool-03-31-2012-3576
END:VEVENT

END:VCALENDAR
