BEGIN:VCALENDAR
VERSION:2.0
PRODID:-//ChamberMaster//Event Calendar 2.0//EN
METHOD:PUBLISH
X-PUBLISHED-TTL:P3D
REFRESH-INTERVAL:P3D
CALSCALE:GREGORIAN
BEGIN:VEVENT
DTSTART;VALUE=DATE:20091121
DTEND;VALUE=DATE:20091122
TRANSP:TRANSPARENT
X-MICROSOFT-CDO-ALLDAYEVENT:TRUE
SUMMARY:1st Annual Veteran's Memorial Golf Tournament
DESCRIPTION:4 person scramble.  Blind draw.  Closest to the pin every hole.  Longest putt every hole.  1st place $900.  2nd place $600.  3rd place $300.  Door prizes.  Hole-in-one car giveaway.  Check-in at 7:00 am.  1st Round begins at 8:30 am & 2nd Round begins at 1:00 pm.  Golf\, dinner & dance only $60 per person.  Registration deadline NOON November 18th!  Sponsorships available.  To register or for sponsorship information\, please call 956-428-7758.  To register onlline go to:  www.cottonwood21.com
X-ALT-DESC;FMTTYPE=text/html:4 person scramble.  Blind draw.  Closest to the pin every hole.  Longest putt every hole.  1st place $900.  2nd place $600.  3rd place $300.  Door prizes.  Hole-in-one car giveaway.  Check-in at 7:00 am.  1st Round begins at 8:30 am & 2nd Round begins at 1:00 pm.  Golf\, dinner & dance only $60 per person.  Registration deadline NOON November 18th!  Sponsorships available.  To register or for sponsorship information\, please call 956-428-7758.  To register onlline go to:  www.cottonwood21.com
LOCATION:
UID:e.1828.2128
SEQUENCE:3
DTSTAMP:20260422T130508Z
URL:https://business.harlingen.com/events/details/1st-annual-veteran-s-memorial-golf-tournament-11-21-2009-2128
END:VEVENT

END:VCALENDAR
