BEGIN:VCALENDAR
VERSION:2.0
PRODID:-//ChamberMaster//Event Calendar 2.0//EN
METHOD:PUBLISH
X-PUBLISHED-TTL:P3D
REFRESH-INTERVAL:P3D
CALSCALE:GREGORIAN
BEGIN:VEVENT
DTSTART;VALUE=DATE:20120211
DTEND;VALUE=DATE:20120212
TRANSP:TRANSPARENT
X-MICROSOFT-CDO-ALLDAYEVENT:TRUE
SUMMARY:1st Annual Wholehearted Scholar Fest!
DESCRIPTION:Join us for the STISD Education Foundation's 1st Annual Wholehearted Scholar Fest! Raising Dollars for Scholars. Bring your whole family\, bring your friends\, bring the community!\n\nRun/Walk to begin at 7:30AM\nBooth to open at 9:AM\nRaffle at 2:30PM\n\nFood\, games\, music\, crafts\, activities\, student booths\, campus information\, presentations\, University Summer Enrichment Program Information\, Community Service Information. FUN for the whole family!\nAll proceeds to benefit the students of STISD. Questions? Need more information? Want to purchase a raffle ticket? Visit www.stisd.net or call 956-565-2454
X-ALT-DESC;FMTTYPE=text/html:Join us for the STISD Education Foundation's 1st Annual Wholehearted Scholar Fest! Raising Dollars for Scholars. Bring your whole family\, bring your friends\, bring the community!\n\nRun/Walk to begin at 7:30AM\nBooth to open at 9:AM\nRaffle at 2:30PM\n\nFood\, games\, music\, crafts\, activities\, student booths\, campus information\, presentations\, University Summer Enrichment Program Information\, Community Service Information. FUN for the whole family!\nAll proceeds to benefit the students of STISD. Questions? Need more information? Want to purchase a raffle ticket? Visit www.stisd.net or call 956-565-2454\n\n\n
LOCATION:
UID:e.1828.3400
SEQUENCE:3
DTSTAMP:20260420T195448Z
URL:https://business.harlingen.com/events/details/1st-annual-wholehearted-scholar-fest-02-11-2012-3400
END:VEVENT

END:VCALENDAR
