BEGIN:VCALENDAR
VERSION:2.0
PRODID:-//ChamberMaster//Event Calendar 2.0//EN
METHOD:PUBLISH
X-PUBLISHED-TTL:P3D
REFRESH-INTERVAL:P3D
CALSCALE:GREGORIAN
BEGIN:VEVENT
DTSTART:20091003T150000Z
DTEND:20091003T170000Z
X-MICROSOFT-CDO-ALLDAYEVENT:FALSE
SUMMARY:1st Saturday Coffee and Culture
DESCRIPTION:The Old City Cemetery Center\, located in the Mitte Cultural District\, is pleased to present the 1st Saturday Coffee and Culture Series each first Saturday of the month from 10 am to noon on Saturday\, October 3\, 2009. The series includes a presentation and a cup of coffee. \n\nOctober's Coffee and Culture series includes a presentation on "Freedman's Cemetery: Archeology and Historic Burial Relocation" by Rolando Garza\, Archeologist\, Palo Alto Battlefield NHS.\n \nIn honor of Texas Archeology Month in October\, Mr. Garza will explain how archeologists use cemeteries as a research tool.  After the presentation\, guests will enjoy a guided walking tour of the Old City Cemetery with Rolando Garza and Old City Cemetery Center Programs Coordinator Rhiannon Cizon. The walking tour will point out areas of interest to archeologists.\n \nThis community project initiative is funded in part through the Historic City Cemetery Project funded by the Brownsville Community Improvement Corporation and the City of Brownsville.\n \nGuests to the cemetery center will also enjoy the temporary exhibition Nuestra Vida Humilde: Our Humble Way of Life exhibit by Joe Lopez. The exhibit is on display through October 9.  The event and the exhibit are free to the public.
X-ALT-DESC;FMTTYPE=text/html:The Old City Cemetery Center\, located in the Mitte Cultural District\, is pleased to present the 1st Saturday Coffee and Culture Series each first Saturday of the month from 10 am to noon on Saturday\, October 3\, 2009. The series includes a presentation and a cup of coffee. \n\nOctober's Coffee and Culture series includes a presentation on "Freedman's Cemetery: Archeology and Historic Burial Relocation" by Rolando Garza\, Archeologist\, Palo Alto Battlefield NHS.\n \nIn honor of Texas Archeology Month in October\, Mr. Garza will explain how archeologists use cemeteries as a research tool.  After the presentation\, guests will enjoy a guided walking tour of the Old City Cemetery with Rolando Garza and Old City Cemetery Center Programs Coordinator Rhiannon Cizon. The walking tour will point out areas of interest to archeologists.\n \nThis community project initiative is funded in part through the Historic City Cemetery Project funded by the Brownsville Community Improvement Corporation and the City of Brownsville.\n \nGuests to the cemetery center will also enjoy the temporary exhibition Nuestra Vida Humilde: Our Humble Way of Life exhibit by Joe Lopez. The exhibit is on display through October 9.  The event and the exhibit are free to the public.
LOCATION:Take US 77/83 to the 6th Street exit. The Old City Cemetery will be half way down on the left hand side. Parking is available on Monroe Street and at the corner of 6th and Madison.
UID:e.1828.2107
SEQUENCE:3
DTSTAMP:20260422T112124Z
URL:https://business.harlingen.com/events/details/1st-saturday-coffee-and-culture-10-03-2009-2107
END:VEVENT

END:VCALENDAR
