BEGIN:VCALENDAR
VERSION:2.0
PRODID:-//ChamberMaster//Event Calendar 2.0//EN
METHOD:PUBLISH
X-PUBLISHED-TTL:P3D
REFRESH-INTERVAL:P3D
CALSCALE:GREGORIAN
BEGIN:VEVENT
DTSTART:20091107T160000Z
DTEND:20091107T180000Z
X-MICROSOFT-CDO-ALLDAYEVENT:FALSE
SUMMARY:1st Saturday Coffee and Culture Series
DESCRIPTION:Guests will learn about the complex rituals involved when a member of the military dies.  Afterwards\, guests are invited to place flowers on the graves of veterans in the Old City Cemetery.  Guests will enjoy the Dia de los Muertos BISD Faculty Art Show.  Sponsored by BCIC and BISD Department of Visual Arts.
X-ALT-DESC;FMTTYPE=text/html:Guests will learn about the complex rituals involved when a member of the military dies.  Afterwards\, guests are invited to place flowers on the graves of veterans in the Old City Cemetery.  Guests will enjoy the Dia de los Muertos BISD Faculty Art Show.  Sponsored by BCIC and BISD Department of Visual Arts.
LOCATION:Take US 77/83 to the 6th street exit\, which will be closed near the Old City Cemetery Center. Parking is available on nearby streets and parking lots.
UID:e.1828.2174
SEQUENCE:3
DTSTAMP:20260422T130400Z
URL:https://business.harlingen.com/events/details/1st-saturday-coffee-and-culture-series-11-07-2009-2174
END:VEVENT

END:VCALENDAR
