BEGIN:VCALENDAR
VERSION:2.0
PRODID:-//ChamberMaster//Event Calendar 2.0//EN
METHOD:PUBLISH
X-PUBLISHED-TTL:P3D
REFRESH-INTERVAL:P3D
CALSCALE:GREGORIAN
BEGIN:VEVENT
DTSTART:20100606T190000Z
DTEND:20100606T203000Z
X-MICROSOFT-CDO-ALLDAYEVENT:FALSE
SUMMARY:1st Sunday Music and Merienda: Comedy Songs\, Laughing in Spanish
DESCRIPTION:Join Joe and Rosa Perez of Rumbo al'Anacua at the Brownsville Heritage Complex as they present songs and poems of comedy and humor in the rustic ranchero style. This event is free for BHA members and $2 for non-members. Sponsored in part by the Texas Commission on the Arts.
X-ALT-DESC;FMTTYPE=text/html:Join Joe and Rosa Perez of Rumbo al'Anacua at the Brownsville Heritage Complex as they present songs and poems of comedy and humor in the rustic ranchero style. This event is free for BHA members and $2 for non-members. Sponsored in part by the Texas Commission on the Arts.
LOCATION:Brownsville Heritage Complex
UID:e.1828.2531
SEQUENCE:3
DTSTAMP:20260422T033420Z
URL:https://business.harlingen.com/events/details/1st-sunday-music-and-merienda-comedy-songs-laughing-in-spanish-06-06-2010-2531
END:VEVENT

END:VCALENDAR
