BEGIN:VCALENDAR
VERSION:2.0
PRODID:-//ChamberMaster//Event Calendar 2.0//EN
METHOD:PUBLISH
X-PUBLISHED-TTL:P3D
REFRESH-INTERVAL:P3D
CALSCALE:GREGORIAN
BEGIN:VEVENT
DTSTART:20100704T190000Z
DTEND:20100704T203000Z
X-MICROSOFT-CDO-ALLDAYEVENT:FALSE
SUMMARY:1st Sunday Music and Merienda: El Valle
DESCRIPTION:Join Joe and Rosa Perez of Rumbo al'Anacua and the Brownsville Historical Association for Music and Merienda on Independence Day as they celebrate the one-of-a-kind culture of the Valley\, and the one-of-a-kind people who make it so\, through song and poem. This event is free for BHA members and $2 for non-members. Sponsored in part by the Texas Commission on the Arts.
X-ALT-DESC;FMTTYPE=text/html:Join Joe and Rosa Perez of Rumbo al'Anacua and the Brownsville Historical Association for Music and Merienda on Independence Day as they celebrate the one-of-a-kind culture of the Valley\, and the one-of-a-kind people who make it so\, through song and poem. This event is free for BHA members and $2 for non-members. Sponsored in part by the Texas Commission on the Arts.
LOCATION:Brownsville Heritage Complex
UID:e.1828.2529
SEQUENCE:3
DTSTAMP:20260422T015817Z
URL:https://business.harlingen.com/events/details/1st-sunday-music-and-merienda-el-valle-07-04-2010-2529
END:VEVENT

END:VCALENDAR
