BEGIN:VCALENDAR
VERSION:2.0
PRODID:-//ChamberMaster//Event Calendar 2.0//EN
METHOD:PUBLISH
X-PUBLISHED-TTL:P3D
REFRESH-INTERVAL:P3D
CALSCALE:GREGORIAN
BEGIN:VEVENT
DTSTART:20100801T190000Z
DTEND:20100801T203000Z
X-MICROSOFT-CDO-ALLDAYEVENT:FALSE
SUMMARY:1st Sunday Music and Merienda: Remembering Lydia Mendoza
DESCRIPTION:Join Joe and Rosa Perez of Rumbo al'Anacua and the Brownsville Historical Association in honoring the memory and legacy of legendary musician Lydia Mendoza through song and poem. The event is free for BHA members and $2 for non-members. Sponsored in part by the Texas Commission on the Arts.
X-ALT-DESC;FMTTYPE=text/html:Join Joe and Rosa Perez of Rumbo al'Anacua and the Brownsville Historical Association in honoring the memory and legacy of legendary musician Lydia Mendoza through song and poem. The event is free for BHA members and $2 for non-members. Sponsored in part by the Texas Commission on the Arts.
LOCATION:Brownsville Heritage Complex
UID:e.1828.2530
SEQUENCE:3
DTSTAMP:20260422T015825Z
URL:https://business.harlingen.com/events/details/1st-sunday-music-and-merienda-remembering-lydia-mendoza-08-01-2010-2530
END:VEVENT

END:VCALENDAR
