BEGIN:VCALENDAR
VERSION:2.0
PRODID:-//ChamberMaster//Event Calendar 2.0//EN
METHOD:PUBLISH
X-PUBLISHED-TTL:P3D
REFRESH-INTERVAL:P3D
CALSCALE:GREGORIAN
BEGIN:VEVENT
DTSTART:20100207T200000Z
DTEND:20100207T200000Z
X-MICROSOFT-CDO-ALLDAYEVENT:FALSE
SUMMARY:1st Sunday Music and Merienda Series: Amores y Desamores
DESCRIPTION:The Brownsville Historical Association invites the community to join Joe and Rosa Perez of Rumbo al'Anacua as they explore love gained and lost through music\, just in time for Valentine's Day. Free for BHA members\, $2 for non-members. Refreshments will be served. For more information\, or to become a BHA member\, please call 956-541-5560.
X-ALT-DESC;FMTTYPE=text/html:The Brownsville Historical Association invites the community to join Joe and Rosa Perez of Rumbo al'Anacua as they explore love gained and lost through music\, just in time for Valentine's Day. Free for BHA members\, $2 for non-members. Refreshments will be served. For more information\, or to become a BHA member\, please call 956-541-5560.
LOCATION:Brownsville Heritage Complex
UID:e.1828.2351
SEQUENCE:3
DTSTAMP:20260422T100601Z
URL:https://business.harlingen.com/events/details/1st-sunday-music-and-merienda-series-amores-y-desamores-02-07-2010-2351
END:VEVENT

END:VCALENDAR
