BEGIN:VCALENDAR
VERSION:2.0
PRODID:-//ChamberMaster//Event Calendar 2.0//EN
METHOD:PUBLISH
X-PUBLISHED-TTL:P3D
REFRESH-INTERVAL:P3D
CALSCALE:GREGORIAN
BEGIN:VEVENT
DTSTART:20091206T200000Z
DTEND:20091206T200000Z
X-MICROSOFT-CDO-ALLDAYEVENT:FALSE
SUMMARY:1st Sunday Music and Merienda Series: El Diciembre Musical
DESCRIPTION:Join Joe and Rosa Perez of Rumbo al'Anacua as they present memories of December celebrations in South Texas with songs and readings about La Virgen de Guadalupe\, Christmas\, and New Year's Eve. This event is free for BHA members and $2 for non-members. Sponsored in part by the Texas Commission on the Arts.
X-ALT-DESC;FMTTYPE=text/html:Join Joe and Rosa Perez of Rumbo al'Anacua as they present memories of December celebrations in South Texas with songs and readings about La Virgen de Guadalupe\, Christmas\, and New Year's Eve. This event is free for BHA members and $2 for non-members. Sponsored in part by the Texas Commission on the Arts.
LOCATION:Brownsville Heritage Complex
UID:e.1828.2244
SEQUENCE:3
DTSTAMP:20260422T144858Z
URL:https://business.harlingen.com/events/details/1st-sunday-music-and-merienda-series-el-diciembre-musical-12-06-2009-2244
END:VEVENT

END:VCALENDAR
