BEGIN:VCALENDAR
VERSION:2.0
PRODID:-//ChamberMaster//Event Calendar 2.0//EN
METHOD:PUBLISH
X-PUBLISHED-TTL:P3D
REFRESH-INTERVAL:P3D
CALSCALE:GREGORIAN
BEGIN:VEVENT
DTSTART:20091106T000000Z
DTEND:20091106T033000Z
X-MICROSOFT-CDO-ALLDAYEVENT:FALSE
SUMMARY:2009 Book Premier and Dedication Gala
DESCRIPTION:Please join us as we honor the Rafael & Carmen Guerra Family and celebrate the release of The Valley Land Fund Wildlife Photo Book VIII ''El Monte Del Valle: Images of South Texas''.
X-ALT-DESC;FMTTYPE=text/html:Please join us as we honor the Rafael & Carmen Guerra Family and celebrate the release of The Valley Land Fund Wildlife Photo Book VIII ''El Monte Del Valle: Images of South Texas''. 
LOCATION:Museum of South Texas History 200 N. Closner Edinburg\, Texas
UID:e.1828.2095
SEQUENCE:3
DTSTAMP:20260422T125836Z
URL:https://business.harlingen.com/events/details/2009-book-premier-and-dedication-gala-11-05-2009-2095
END:VEVENT

END:VCALENDAR
