BEGIN:VCALENDAR
VERSION:2.0
PRODID:-//ChamberMaster//Event Calendar 2.0//EN
METHOD:PUBLISH
X-PUBLISHED-TTL:P3D
REFRESH-INTERVAL:P3D
CALSCALE:GREGORIAN
BEGIN:VEVENT
DTSTART:20091119T233000Z
DTEND:20091120T010000Z
X-MICROSOFT-CDO-ALLDAYEVENT:FALSE
SUMMARY:2009 Fall Harvest After Hours Mixer
DESCRIPTION:Harlingen Area Chamber\, San Benito Chamber\,\n    Harlingen Hispanic Chamber and Southwest Minority Supplier Development Council will host a Fall Harvest Mixer.\n\n    4\n    non-perishable goods will\n    get you into the event. The collection of these non-perishable goods will be divided between the San Benito Food Pantry and Loaves & Fishes in Harlingen. \n    \n    \n    \n    \n    \n\n\n    Join us for an evening of networking with other business people and enjoying great food and drinks.  Don't\n    forget to bring plenty of business cards. Your business card is your ticket to one of the door prizes.  \n    \n    \n\n\n    Representatives from Chamber\n    member businesses are all invited to attend. Registration is encourage.
X-ALT-DESC;FMTTYPE=text/html:<p>\n    Harlingen Area Chamber\, San Benito Chamber\,\n    Harlingen Hispanic Chamber and Southwest Minority Supplier Development Council will host a Fall Harvest Mixer.</p>\n<p class="MsoNormal" style="mso-pagination: widow-orphan">\n    <span lang="en-US" style="FONT-SIZE: 14pt\; FONT-FAMILY: Arial\; mso-default-font-family: Arial\; mso-ascii-font-family: Arial\; mso-latin-font-family: Arial\; mso-greek-font-family: Arial\; mso-cyrillic-font-family: Arial\; mso-hebrew-font-family: Arial\; mso-arabic-font-family: Arial\; mso-latinext-font-family: Arial\; language: en-US\; mso-ansi-language: en-US"><font face="Calibri"><font size="3"><span lang="en-US" style="FONT-WEIGHT: bold\; FONT-SIZE: 12pt\; COLOR: #3333cc\; FONT-FAMILY: Arial\; TEXT-DECORATION: underline\; mso-default-font-family: Arial\; mso-ascii-font-family: Arial\; mso-latin-font-family: Arial\; mso-greek-font-family: Arial\; mso-cyrillic-font-family: Arial\; mso-hebrew-font-family: Arial\; mso-arabic-font-family: Arial\; mso-latinext-font-family: Arial\; language: en-US\; mso-ansi-language: en-US\; text-underline: single">4\n    non-perishable goods</span><span lang="en-US" style="FONT-SIZE: 12pt\; COLOR: #3333cc\; FONT-FAMILY: Arial\; mso-default-font-family: Arial\; mso-ascii-font-family: Arial\; mso-latin-font-family: Arial\; mso-greek-font-family: Arial\; mso-cyrillic-font-family: Arial\; mso-hebrew-font-family: Arial\; mso-arabic-font-family: Arial\; mso-latinext-font-family: Arial\; language: en-US\; mso-ansi-language: en-US\; mso-bidi-font-weight: bold"> </span><span lang="en-US" style="FONT-SIZE: 12pt\; FONT-FAMILY: Arial\; mso-default-font-family: Arial\; mso-ascii-font-family: Arial\; mso-latin-font-family: Arial\; mso-greek-font-family: Arial\; mso-cyrillic-font-family: Arial\; mso-hebrew-font-family: Arial\; mso-arabic-font-family: Arial\; mso-latinext-font-family: Arial\; language: en-US\; mso-ansi-language: en-US\; mso-bidi-font-weight: bold">will\n    get you into the event. The collection of these non-perishable&nbsp\;goods will be divided between&nbsp\;the San Benito Food Pantry and Loaves &amp\; Fishes in Harlingen. \n    <o:p></o:p>\n    </span>\n    </font>\n    </font>\n    </span>\n</p>\n<p class="MsoNormal" style="mso-pagination: none">\n    <span lang="en-US" style="FONT-SIZE: 14pt\; FONT-FAMILY: Arial\; mso-default-font-family: Arial\; mso-ascii-font-family: Arial\; mso-latin-font-family: Arial\; mso-greek-font-family: Arial\; mso-cyrillic-font-family: Arial\; mso-hebrew-font-family: Arial\; mso-arabic-font-family: Arial\; mso-latinext-font-family: Arial\; language: en-US\; mso-ansi-language: en-US"><font face="Calibri"><font size="3">Join us for an evening of networking with other business people and enjoying great food and drinks.<span style="mso-spacerun: yes">&nbsp\; </span>Don&rsquo\;t\n    forget to bring plenty of business cards. Your business card&nbsp\;is your ticket to one of the door prizes.&nbsp\; \n    <o:p></o:p>\n    </font></font></span>\n</p>\n<p class="MsoNormal" style="mso-pagination: widow-orphan">\n    <font face="Calibri"><font size="3"><span lang="en-US" style="FONT-SIZE: 14pt\; FONT-FAMILY: Arial\; mso-default-font-family: Arial\; mso-ascii-font-family: Arial\; mso-latin-font-family: Arial\; mso-greek-font-family: Arial\; mso-cyrillic-font-family: Arial\; mso-hebrew-font-family: Arial\; mso-arabic-font-family: Arial\; mso-latinext-font-family: Arial\; language: en-US\; mso-ansi-language: en-US\; mso-armenian-font-family: 'Palatino Linotype'\; mso-currency-font-family: 'Palatino Linotype'">Representatives from Chamber\n    member businesses are all invited to attend. Registration is encourage.</span></font></font>\n</p>\n
LOCATION:4 non-perishable goods will get you into the event. The collection of these non-perishable goods will be divided between the San Benito Food Pantry and Loaves & Fishes in Harlingen.
UID:e.1828.2208
SEQUENCE:3
DTSTAMP:20260422T125926Z
URL:https://business.harlingen.com/events/details/2009-fall-harvest-after-hours-mixer-11-19-2009-2208
END:VEVENT

END:VCALENDAR
