BEGIN:VCALENDAR
VERSION:2.0
PRODID:-//ChamberMaster//Event Calendar 2.0//EN
METHOD:PUBLISH
X-PUBLISHED-TTL:P3D
REFRESH-INTERVAL:P3D
CALSCALE:GREGORIAN
BEGIN:VEVENT
DTSTART;VALUE=DATE:20091204
DTEND;VALUE=DATE:20091205
TRANSP:TRANSPARENT
X-MICROSOFT-CDO-ALLDAYEVENT:TRUE
SUMMARY:2009 Pinata Festival
DESCRIPTION:The Pinata Festival will take place right after the Christmas Parade in downtown Harlingen.  Music\, food booths\, pinatas and SNOW!  For more information\, please call the Harlingen Downtown Office at 956-216-4910.
X-ALT-DESC;FMTTYPE=text/html:The Pinata Festival will take place right after the Christmas Parade in downtown Harlingen.  Music\, food booths\, pinatas and SNOW!  For more information\, please call the Harlingen Downtown Office at 956-216-4910.
LOCATION:
UID:e.1828.2089
SEQUENCE:3
DTSTAMP:20260422T143709Z
URL:https://business.harlingen.com/events/details/2009-pinata-festival-12-04-2009-2089
END:VEVENT

END:VCALENDAR
