BEGIN:VCALENDAR
VERSION:2.0
PRODID:-//ChamberMaster//Event Calendar 2.0//EN
METHOD:PUBLISH
X-PUBLISHED-TTL:P3D
REFRESH-INTERVAL:P3D
CALSCALE:GREGORIAN
BEGIN:VEVENT
DTSTART:20091003T220000Z
DTEND:20091004T020000Z
X-MICROSOFT-CDO-ALLDAYEVENT:FALSE
SUMMARY:2009 Praise on the Hill
DESCRIPTION:The 2009 Praise on the Hill scheduled for Saturday\, October 3\, 2009 has been moved from McKelvey Park in Harlingen to the RGV Livestock Show Fairgrounds in Mercedes due to recent rain.  See Big Daddy \nWave in concert with a guest appearance by Jeremy Riddle.  FREE ADMISSION!!!  Bring your church members\, youth groups\, family\, friends & neighbors.  There will be inflatables\, games and concessions!  A great evening for everyone.  Food & clothing will be collected for the Benito Juarez Orphanage in Reynosa\, Mexico.  For more information\, please visit the website at www.praiseonthehill.com or contact Gene Palmos at 956-893-0638.
X-ALT-DESC;FMTTYPE=text/html:The 2009 Praise on the Hill scheduled for Saturday\, October 3\, 2009 has been moved from McKelvey Park in Harlingen to the RGV Livestock Show Fairgrounds in Mercedes due to recent rain.  See Big Daddy \nWave in concert with a guest appearance by Jeremy Riddle.  FREE ADMISSION!!!  Bring your church members\, youth groups\, family\, friends & neighbors.  There will be inflatables\, games and concessions!  A great evening for everyone.  Food & clothing will be collected for the Benito Juarez Orphanage in Reynosa\, Mexico.  For more information\, please visit the website at www.praiseonthehill.com or contact Gene Palmos at 956-893-0638.
LOCATION:
UID:e.1828.2061
SEQUENCE:3
DTSTAMP:20260422T111755Z
URL:https://business.harlingen.com/events/details/2009-praise-on-the-hill-10-03-2009-2061
END:VEVENT

END:VCALENDAR
