BEGIN:VCALENDAR
VERSION:2.0
PRODID:-//ChamberMaster//Event Calendar 2.0//EN
METHOD:PUBLISH
X-PUBLISHED-TTL:P3D
REFRESH-INTERVAL:P3D
CALSCALE:GREGORIAN
BEGIN:VEVENT
DTSTART:20091015T230000Z
DTEND:20091016T020000Z
X-MICROSOFT-CDO-ALLDAYEVENT:FALSE
SUMMARY:2009 Taste of Harlingen
DESCRIPTION:Taste of Harlingen is the Harlingen Arts & Heritage Museum's annual fundraising event in which area restaurants are invited to showcase their culinary expertise to the public.  The proceeds from this event enable the museum to promote an entire year's worth of programming.  Scheduled from 6:00 – 9:00 PM.  Admission of $50.00 per person includes the Texas Wine Tasting on Saturday\, October 17.  A $60.00 value.  Advanced tickets available for $45 per person at Harlingen Arts & Heritage Museum\, Harlingen City Auditorium Box Office\, Harlingen Area Chamber of Commerce and the Harlingen Hispanic Chamber of Commerce\,  For more information on Taste of Harlingen\, please call the Museum at 956-216-4901.
X-ALT-DESC;FMTTYPE=text/html:Taste of Harlingen is the Harlingen Arts & Heritage Museum's annual fundraising event in which area restaurants are invited to showcase their culinary expertise to the public.  The proceeds from this event enable the museum to promote an entire year's worth of programming.  Scheduled from 6:00 – 9:00 PM.  Admission of $50.00 per person includes the Texas Wine Tasting on Saturday\, October 17.  A $60.00 value.  Advanced tickets available for $45 per person at Harlingen Arts & Heritage Museum\, Harlingen City Auditorium Box Office\, Harlingen Area Chamber of Commerce and the Harlingen Hispanic Chamber of Commerce\,  For more information on Taste of Harlingen\, please call the Museum at 956-216-4901.  
LOCATION:Harlingen Arts & Heritage Museum
UID:e.1828.1593
SEQUENCE:3
DTSTAMP:20260422T112003Z
URL:https://business.harlingen.com/events/details/2009-taste-of-harlingen-10-15-2009-1593
END:VEVENT

END:VCALENDAR
