BEGIN:VCALENDAR
VERSION:2.0
PRODID:-//ChamberMaster//Event Calendar 2.0//EN
METHOD:PUBLISH
X-PUBLISHED-TTL:P3D
REFRESH-INTERVAL:P3D
CALSCALE:GREGORIAN
BEGIN:VEVENT
DTSTART:20091106T000000Z
DTEND:20091106T033000Z
X-MICROSOFT-CDO-ALLDAYEVENT:FALSE
SUMMARY:2009 Valley Land Fund Wildlife Photo Book Premier & Dedication Gala
DESCRIPTION:2009 Book Premier and Dedication Gala 11/5/2009\; 6:00 PM TO 9:30 PM\; Museum of South Texas History-  200 N. Closner\, Edinburg.  Please join us as we honor the Rafael & Carmen Guerra Family and celebrate the release of The Valley Land Fund Wildlife Photo Book VIII "El Monte Del Valle: Images of South Texas". Call 956-686-6429 for more info.
X-ALT-DESC;FMTTYPE=text/html:2009 Book Premier and Dedication Gala 11/5/2009\; 6:00 PM TO 9:30 PM\; Museum of South Texas History-  200 N. Closner\, Edinburg.  Please join us as we honor the Rafael & Carmen Guerra Family and celebrate the release of The Valley Land Fund Wildlife Photo Book VIII "El Monte Del Valle: Images of South Texas". Call 956-686-6429 for more info.\n
LOCATION:
UID:e.1828.2192
SEQUENCE:3
DTSTAMP:20260422T130511Z
URL:https://business.harlingen.com/events/details/2009-valley-land-fund-wildlife-photo-book-premier-dedication-gala-11-05-2009-2192
END:VEVENT

END:VCALENDAR
