BEGIN:VCALENDAR
VERSION:2.0
PRODID:-//ChamberMaster//Event Calendar 2.0//EN
METHOD:PUBLISH
X-PUBLISHED-TTL:P3D
REFRESH-INTERVAL:P3D
CALSCALE:GREGORIAN
BEGIN:VEVENT
DTSTART;VALUE=DATE:20100903
DTEND;VALUE=DATE:20100904
TRANSP:TRANSPARENT
X-MICROSOFT-CDO-ALLDAYEVENT:TRUE
SUMMARY:2010 Al Amin Shrine Circus
DESCRIPTION:Friday\, September 3rd at 4:30\, 7:30 & 10:00 pm.  Tickets (12 years & under) $14.  Adults $16.  Tickets available at the stadium box office one hour before showtimes.  Further information available online at www.valleycircus.com
X-ALT-DESC;FMTTYPE=text/html:Friday\, September 3rd at 4:30\, 7:30 & 10:00 pm.  Tickets (12 years & under) $14.  Adults $16.  Tickets available at the stadium box office one hour before showtimes.  Further information available online at www.valleycircus.com
LOCATION:
UID:e.1828.2706
SEQUENCE:3
DTSTAMP:20260422T001557Z
URL:https://business.harlingen.com/events/details/2010-al-amin-shrine-circus-09-03-2010-2706
END:VEVENT

END:VCALENDAR
