BEGIN:VCALENDAR
VERSION:2.0
PRODID:-//ChamberMaster//Event Calendar 2.0//EN
METHOD:PUBLISH
X-PUBLISHED-TTL:P3D
REFRESH-INTERVAL:P3D
CALSCALE:GREGORIAN
BEGIN:VEVENT
DTSTART:20100218T173000Z
DTEND:20100218T180000Z
X-MICROSOFT-CDO-ALLDAYEVENT:FALSE
SUMMARY:2010 Arbor Day Ceremony in Memory of Mr. James Matz
DESCRIPTION:2010 Arbor Day Ceremony in Memory of Mr. James Matz. Presented by Harlingen Proud and the City of Harlingen will be on Feb. 18 from 11:30 am - 12:00 pm at Liberty Gardens\, next to the Cultural Arts Center/Library. Ceremony will be moved into the Cultural Arts Center in case of rain. Please join Harlingen Pround in honoring  Mr. Matz and his wonderful contributions to our City and the Rio Grande Valley.
X-ALT-DESC;FMTTYPE=text/html:2010 Arbor Day Ceremony in Memory of Mr. James Matz. Presented by Harlingen Proud and the City of Harlingen will be on Feb. 18 from 11:30 am - 12:00 pm at Liberty Gardens\, next to the Cultural Arts Center/Library. Ceremony will be moved into the Cultural Arts Center in case of rain. Please join Harlingen Pround in honoring  Mr. Matz and his wonderful contributions to our City and the Rio Grande Valley.
LOCATION:Located next to the Cultural Arts Center/Library
UID:e.1828.2395
SEQUENCE:3
DTSTAMP:20260422T100222Z
URL:https://business.harlingen.com/events/details/2010-arbor-day-ceremony-in-memory-of-mr-james-matz-02-18-2010-2395
END:VEVENT

END:VCALENDAR
