BEGIN:VCALENDAR
VERSION:2.0
PRODID:-//ChamberMaster//Event Calendar 2.0//EN
METHOD:PUBLISH
X-PUBLISHED-TTL:P3D
REFRESH-INTERVAL:P3D
CALSCALE:GREGORIAN
BEGIN:VEVENT
DTSTART;VALUE=DATE:20101110
DTEND;VALUE=DATE:20101115
TRANSP:TRANSPARENT
X-MICROSOFT-CDO-ALLDAYEVENT:TRUE
SUMMARY:2010 RGV Birding Festival
DESCRIPTION:The RGV Birding Festival features a variety of seminars and field trips each year. The 2010 festival is scheduled to run Nov. 10-14.  A trade show will also be held during the course of the festival.  Field trips depart from the Harlingen Municipal Auditorium complex.  For more information\, please visit the festival website at www.rgvbirdfestival.com or call (956) 423-5440 or 1-800-531-7346.
X-ALT-DESC;FMTTYPE=text/html:The RGV Birding Festival features a variety of seminars and field trips each year. The 2010 festival is scheduled to run Nov. 10-14.  A trade show will also be held during the course of the festival.  Field trips depart from the Harlingen Municipal Auditorium complex.  For more information\, please visit the festival website at www.rgvbirdfestival.com or call (956) 423-5440 or 1-800-531-7346.\n
LOCATION:
UID:e.1828.2588
SEQUENCE:3
DTSTAMP:20260421T203811Z
URL:https://business.harlingen.com/events/details/2010-rgv-birding-festival-11-10-2010-2588
END:VEVENT

END:VCALENDAR
