BEGIN:VCALENDAR
VERSION:2.0
PRODID:-//ChamberMaster//Event Calendar 2.0//EN
METHOD:PUBLISH
X-PUBLISHED-TTL:P3D
REFRESH-INTERVAL:P3D
CALSCALE:GREGORIAN
BEGIN:VEVENT
DTSTART:20100410T130000Z
DTEND:20100410T163000Z
X-MICROSOFT-CDO-ALLDAYEVENT:FALSE
SUMMARY:2010 SPRING TRASH BASH
DESCRIPTION:2010 SPRING TRASH BASH presented by Harlingen Proud and the City of Harlingen on April 10\, 2010 from 8:00 am to 11:30 am.  11:45 am lunch at the Oil Mill Pavillion.  We are in need of Volunteers to help pick up trash citywide.  When a group signs up\, they will be able to choose a designated area to clean up.  First Come\, First Serve basis only.  Please bring gloves and a lot of enthusiasm.  We will be providing lunch & refreshments and a free T-shirt for your efforts!  REGISTRATION IS REQUIRED!!!  FOR MORE INFORMATION OR TO SIGN UP YOUR BUSINESS\, ORGANIZATION OR GROUP please call (956) 216-5302  or email – hgnproud@aol.com by April 7\, 2010.  Thank you for your support and community spirit!!!
X-ALT-DESC;FMTTYPE=text/html:2010 SPRING TRASH BASH presented by Harlingen Proud and the City of Harlingen on April 10\, 2010 from 8:00 am to 11:30 am.  11:45 am lunch at the Oil Mill Pavillion.  We are in need of Volunteers to help pick up trash citywide.  When a group signs up\, they will be able to choose a designated area to clean up.  First Come\, First Serve basis only.  Please bring gloves and a lot of enthusiasm.  We will be providing lunch & refreshments and a free T-shirt for your efforts!  REGISTRATION IS REQUIRED!!!  FOR MORE INFORMATION OR TO SIGN UP YOUR BUSINESS\, ORGANIZATION OR GROUP please call (956) 216-5302  or email – hgnproud@aol.com by April 7\, 2010.  Thank you for your support and community spirit!!!\n
LOCATION:
UID:e.1828.2460
SEQUENCE:3
DTSTAMP:20260422T061209Z
URL:https://business.harlingen.com/events/details/2010-spring-trash-bash-04-10-2010-2460
END:VEVENT

END:VCALENDAR
