BEGIN:VCALENDAR
VERSION:2.0
PRODID:-//ChamberMaster//Event Calendar 2.0//EN
METHOD:PUBLISH
X-PUBLISHED-TTL:P3D
REFRESH-INTERVAL:P3D
CALSCALE:GREGORIAN
BEGIN:VEVENT
DTSTART:20101021T230000Z
DTEND:20101022T020000Z
X-MICROSOFT-CDO-ALLDAYEVENT:FALSE
SUMMARY:2010 Taste of Harlingen
DESCRIPTION:Help celebrate Harlingen's First 100 Years at the 2010 Taste of Harlingen presented by the Harlingen Arts & Heritage Museum.  A long list of participating restaurants will showcase their culinary expertise to the public. The proceeds from this event enable the museum to promote an entire year's worth of programming.  The evening will include a Silent Auction\, Gift Box Sales and Live Entertainment.  For ticket information\, please call the Museum at 956-216-4901.
X-ALT-DESC;FMTTYPE=text/html:Help celebrate Harlingen's First 100 Years at the 2010 Taste of Harlingen presented by the Harlingen Arts & Heritage Museum.  A long list of participating restaurants will showcase their culinary expertise to the public. The proceeds from this event enable the museum to promote an entire year's worth of programming.  The evening will include a Silent Auction\, Gift Box Sales and Live Entertainment.  For ticket information\, please call the Museum at 956-216-4901.  \n
LOCATION:
UID:e.1828.2673
SEQUENCE:3
DTSTAMP:20260421T223050Z
URL:https://business.harlingen.com/events/details/2010-taste-of-harlingen-10-21-2010-2673
END:VEVENT

END:VCALENDAR
