BEGIN:VCALENDAR
VERSION:2.0
PRODID:-//ChamberMaster//Event Calendar 2.0//EN
METHOD:PUBLISH
X-PUBLISHED-TTL:P3D
REFRESH-INTERVAL:P3D
CALSCALE:GREGORIAN
BEGIN:VEVENT
DTSTART:20101118T130000Z
DTEND:20101118T190000Z
X-MICROSOFT-CDO-ALLDAYEVENT:FALSE
SUMMARY:2010 Wealth of Health Fair
DESCRIPTION:Health Fair Offers Screenings....& More\n2010 Wealth of Health Fair sponsered by TSTC Harlingen\nAdmission is free in addition to free screenings for diabetes\, blood pressure\, dental hygiene\, occupational & speech therapy\, hearing & bone density. Some screenings & immunizations will require a fee. There will be door prizes!\nFor more information contact TSTC Medical Assistant Chairwoman Jean Lashbrook at 800.852.8784\, ext. 4797\, 956.364.4797 or jean.lashbrook@harlingen.tstc.edu.
X-ALT-DESC;FMTTYPE=text/html:Health Fair Offers Screenings....& More\n2010 Wealth of Health Fair sponsered by TSTC Harlingen\nAdmission is free in addition to free screenings for diabetes\, blood pressure\, dental hygiene\, occupational & speech therapy\, hearing & bone density. Some screenings & immunizations will require a fee. There will be door prizes!\nFor more information contact TSTC Medical Assistant Chairwoman Jean Lashbrook at 800.852.8784\, ext. 4797\, 956.364.4797 or jean.lashbrook@harlingen.tstc.edu.\n\n
LOCATION:Cultural Arts Center
UID:e.1828.2848
SEQUENCE:3
DTSTAMP:20260421T190739Z
URL:https://business.harlingen.com/events/details/2010-wealth-of-health-fair-11-18-2010-2848
END:VEVENT

END:VCALENDAR
