BEGIN:VCALENDAR
VERSION:2.0
PRODID:-//ChamberMaster//Event Calendar 2.0//EN
METHOD:PUBLISH
X-PUBLISHED-TTL:P3D
REFRESH-INTERVAL:P3D
CALSCALE:GREGORIAN
BEGIN:VEVENT
DTSTART:20101002T130000Z
DTEND:20101002T160000Z
X-MICROSOFT-CDO-ALLDAYEVENT:FALSE
SUMMARY:2010 Wes Lepard Start! Heart Walk
DESCRIPTION:The 2010 Wes Lepard Start! Heart Walk is an annual 5K non-competitive family walking event designed to bring public awareness to physical activity and a heart-healthy lifestyle\, while at the same time\, raising the critical dollars needed to fund the life-saving research and educational community programs of the American Heart Association.  Walkers from all over Cameron County come out to support the fight against our country's leading causes of death – heart disease and stroke.  .\n\nParticipating in the American Heart Walk is easy as tying your shoes!  Walk as a part of your company team or form your own team with family and friends.  Set a goal to raise $150 per walker and ask your friends\, family and people you do business with to support you by giving you a donation towards the AHA.\n\nFor more information on registering\, check out our on-line registration and fundraising website and see how easy it is to join a team or start your own team.  Just go to www.harlingenheartwalk.org or you can call Monica Hernandez\, for more information at 888-433-7714 or 956-984-0211.
X-ALT-DESC;FMTTYPE=text/html:The 2010 Wes Lepard Start! Heart Walk is an annual 5K non-competitive family walking event designed to bring public awareness to physical activity and a heart-healthy lifestyle\, while at the same time\, raising the critical dollars needed to fund the life-saving research and educational community programs of the American Heart Association.  Walkers from all over Cameron County come out to support the fight against our country's leading causes of death – heart disease and stroke.  .\n\nParticipating in the American Heart Walk is easy as tying your shoes!  Walk as a part of your company team or form your own team with family and friends.  Set a goal to raise $150 per walker and ask your friends\, family and people you do business with to support you by giving you a donation towards the AHA.\n\nFor more information on registering\, check out our on-line registration and fundraising website and see how easy it is to join a team or start your own team.  Just go to www.harlingenheartwalk.org or you can call Monica Hernandez\, for more information at 888-433-7714 or 956-984-0211.\n
LOCATION:Marine Military Academy
UID:e.1828.2667
SEQUENCE:3
DTSTAMP:20260421T222148Z
URL:https://business.harlingen.com/events/details/2010-wes-lepard-start-heart-walk-10-02-2010-2667
END:VEVENT

END:VCALENDAR
