BEGIN:VCALENDAR
VERSION:2.0
PRODID:-//ChamberMaster//Event Calendar 2.0//EN
METHOD:PUBLISH
X-PUBLISHED-TTL:P3D
REFRESH-INTERVAL:P3D
CALSCALE:GREGORIAN
BEGIN:VEVENT
DTSTART:20110404T233000Z
DTEND:20110404T233000Z
X-MICROSOFT-CDO-ALLDAYEVENT:FALSE
SUMMARY:2011 Bright Future Banquet
DESCRIPTION:Honoring Students of HCISD\nHosted by: The Harlingen Area Educational Foundation\nGuest speaker: Dan Baker\nTable of 8 - $800 (6 of your guests with 2 HCISD students)\nIndividual ticket - $100\nRSVP: Dean LaFever 956-444-3931/Business Attire\nBusiness Attire
X-ALT-DESC;FMTTYPE=text/html:Honoring Students of HCISD\nHosted by: The Harlingen Area Educational Foundation\nGuest speaker: Dan Baker\nTable of 8 - $800 (6 of your guests with 2 HCISD students)\nIndividual ticket - $100\nRSVP: Dean LaFever 956-444-3931/Business Attire\nBusiness Attire
LOCATION:Loop 499
UID:e.1828.3000
SEQUENCE:3
DTSTAMP:20260421T110845Z
URL:https://business.harlingen.com/events/details/2011-bright-future-banquet-04-04-2011-3000
END:VEVENT

END:VCALENDAR
