BEGIN:VCALENDAR
VERSION:2.0
PRODID:-//ChamberMaster//Event Calendar 2.0//EN
METHOD:PUBLISH
X-PUBLISHED-TTL:P3D
REFRESH-INTERVAL:P3D
CALSCALE:GREGORIAN
BEGIN:VEVENT
DTSTART:20111013T140000Z
DTEND:20111013T170000Z
X-MICROSOFT-CDO-ALLDAYEVENT:FALSE
SUMMARY:2011 Education and Career EXPO
DESCRIPTION:Exhibitors wanted for the 2011 Education and Career EXPO scheduled for Thursday\, October 13th. \n \nIf you have a business\, organization\, trade school or university program that would be of value to high school juniors and seniors\, make plans now to participate in the ninth annual Education & Career EXPO scheduled for October 13\, 2011\, from 9 a.m. to 12 p.m. at the Casa de Amistad in Harlingen. This event\, which began in 2003 as a project of the Education Committee of the Harlingen Area Chamber of Commerce\, now includes partners from throughout the region. The EXPO partners are committed to bringing awareness of Rio Grande Valley education and employment opportunities to residents ages 16 and over in order to improve their quality of life. \n \nCall the following for more information or to register for the 2011 Education and Career EXPO:\nTech Prep of the RGV (956.364.4509) or Kathy Wolf at the Harlingen Chamber (956.423.5440)
X-ALT-DESC;FMTTYPE=text/html:Exhibitors wanted for the 2011 Education and Career EXPO scheduled for Thursday\, October 13th. \n \nIf you have a business\, organization\, trade school or university program that would be of value to high school juniors and seniors\, make plans now to participate in the ninth annual Education & Career EXPO scheduled for October 13\, 2011\, from 9 a.m. to 12 p.m. at the Casa de Amistad in Harlingen. This event\, which began in 2003 as a project of the Education Committee of the Harlingen Area Chamber of Commerce\, now includes partners from throughout the region. The EXPO partners are committed to bringing awareness of Rio Grande Valley education and employment opportunities to residents ages 16 and over in order to improve their quality of life. \n \nCall the following for more information or to register for the 2011 Education and Career EXPO:\nTech Prep of the RGV (956.364.4509) or Kathy Wolf at the Harlingen Chamber (956.423.5440)\n \n
LOCATION:
UID:e.1828.3177
SEQUENCE:3
DTSTAMP:20260421T021246Z
URL:https://business.harlingen.com/events/details/2011-education-and-career-expo-10-13-2011-3177
END:VEVENT

END:VCALENDAR
