BEGIN:VCALENDAR
VERSION:2.0
PRODID:-//ChamberMaster//Event Calendar 2.0//EN
METHOD:PUBLISH
X-PUBLISHED-TTL:P3D
REFRESH-INTERVAL:P3D
CALSCALE:GREGORIAN
BEGIN:VEVENT
DTSTART:20111105T130000Z
DTEND:20111105T163000Z
X-MICROSOFT-CDO-ALLDAYEVENT:FALSE
SUMMARY:2011 FALL TRASH BASH / Keep Harlingen Beautiful and the City of Harlingen
DESCRIPTION:2011 FALL TRASH BASH\npresented by \nKeep Harlingen Beautiful and the City of Harlingen\n \nNovember 5\, 2011\n8:00 am - 11:30 am\n        11:45am   Lunch at the City Hall Parking Lot\n(in case of inclement weather - lunch will be moved to Oil Mill Pavilion)\n \nWe are in need of Volunteers to help pick up trash citywide.\nWhen a group signs up\, they will be able to choose a designated area to clean up.\nFirst Come\, First Serve basis only. Please bring gloves and a lot of enthusiasm! \nWe will be providing lunch & refreshments and a free T-shirt for your efforts! \n \nFOR MORE INFORMATION \nOR \nTO SIGN UP YOUR BUSINESS\, ORGANIZATION OR GROUP\nPlease call (956) 216-5302 or email - keephgnbeautiful@aol.com \nby November 3\, 2011\nThank you for your support and community spirit!!!
X-ALT-DESC;FMTTYPE=text/html:2011 FALL TRASH BASH\npresented by \nKeep Harlingen Beautiful and the City of Harlingen\n \nNovember 5\, 2011\n8:00 am - 11:30 am\n        11:45am   Lunch at the City Hall Parking Lot\n(in case of inclement weather - lunch will be moved to Oil Mill Pavilion)\n \nWe are in need of Volunteers to help pick up trash citywide.\nWhen a group signs up\, they will be able to choose a designated area to clean up.\nFirst Come\, First Serve basis only. Please bring gloves and a lot of enthusiasm! \nWe will be providing lunch & refreshments and a free T-shirt for your efforts! \n \nFOR MORE INFORMATION \nOR \nTO SIGN UP YOUR BUSINESS\, ORGANIZATION OR GROUP\nPlease call (956) 216-5302 or email - keephgnbeautiful@aol.com \nby November 3\, 2011\nThank you for your support and community spirit!!!\n
LOCATION:
UID:e.1828.3233
SEQUENCE:3
DTSTAMP:20260421T021455Z
URL:https://business.harlingen.com/events/details/2011-fall-trash-bash-keep-harlingen-beautiful-and-the-city-of-harlingen-11-05-2011-3233
END:VEVENT

END:VCALENDAR
